BEGIN:VCALENDAR
VERSION:2.0
PRODID:-//【公式】アジア太平洋大家の会 - ECPv6.15.20//NONSGML v1.0//EN
CALSCALE:GREGORIAN
METHOD:PUBLISH
X-WR-CALNAME:【公式】アジア太平洋大家の会
X-ORIGINAL-URL:https://asia-pacific.tv
X-WR-CALDESC:【公式】アジア太平洋大家の会 のイベント
REFRESH-INTERVAL;VALUE=DURATION:PT1H
X-Robots-Tag:noindex
X-PUBLISHED-TTL:PT1H
BEGIN:VTIMEZONE
TZID:Asia/Tokyo
BEGIN:STANDARD
TZOFFSETFROM:+0900
TZOFFSETTO:+0900
TZNAME:JST
DTSTART:20190101T000000
END:STANDARD
END:VTIMEZONE
BEGIN:VEVENT
DTSTART;TZID=Asia/Tokyo:20240402T140000
DTEND;TZID=Asia/Tokyo:20240402T150000
DTSTAMP:20260422T173718
CREATED:20240318T130455Z
LAST-MODIFIED:20240406T063323Z
UID:4957-1712066400-1712070000@asia-pacific.tv
SUMMARY:2024/4/2 オンラインセミナー「マレーシア・シンガポール国境マンションの家賃上昇をおカネにする！特選物件セミナー」
DESCRIPTION:「マレーシア」は東南アジアの経済優等生ですが、超優等生シンガポールと比べると、賃金や物価水準において３：１くらいの格差があります。陸続きの両国、毎日数十万人のマレーシア国民が、入管施設(CIQ)を通って、朝シンガポールへ働きに行き、夕方マレーシアに帰ってきます。そのCIQすぐそばのマンション群は家賃上昇が最近凄く、入居率も抜群に良くなっています。シンガポール側のWoodlandsと直通する電車RTSの完成を数年後に控え、さらに伸びしろが感じられるのでチャンス！東南アジア屈指の投資機会をセミナーでご紹介いたします。 \n\n\n\n\n\n\n\n\n  \nマレーシア南端の都市ジョホールバルは、東南アジアの金融センターであるシンガポールの対岸に位置し、距離もわずか1kmに満たず陸路（橋）でつながっている立地ゆえ、物価や賃料の安いマレーシアに住んで賃金の高いシンガポールに毎日通勤する人が数多いことで有名です。ジョホールバルでは数年前、空室問題が日本の地上波で紹介された時期があります。但しシンガポールとの国境イミグレ（CIQ）一帯に関しては賃貸需要が非常に分厚く、空室率が低下し家賃が上昇傾向にあります。 \n\nジョホールバルに本拠を置く日系の管理会社JC ASSET社では、CIQ至近の管理物件（コンドミニアム区分）がすべて満室になり、コロナ禍以前の2019年と比べて家賃が2.5倍になった事例や、市場価格より15％高い賃料で成約した事例など、これまでの常識では考えられない状況が相次いで起こっています。 \n今後の目玉は、シンガポール直通鉄道「RTS」計画。2027年開業予定で現在工事が進行しつつあり、ジョホールバルの不動産事情は大きく変化しています。CIQ至近の物件はジョホールバル側RTSから徒歩圏になるので、オーナー様にさらに楽しいことが起きそうです。 \n\n\n\n\n\n\n\n\n  \n  \n\n  \n講演者: 笹井　大輔\nJC ASSET MANAGEMENT SDN. BHD代表\n\n長野県出身、同志社大学法学部卒業。2人の娘をマルボロ・カレッジなどインターナショナルスクールで国際教育を受けさせるため、東京で10年間経営していた会社を売却して、2014年に家族でマレーシア・ジョホールバルに移住。2014年よりJC ASSET MANAGEMENT SDN. BHD.を設立・代表に就任。不動産管理・内装・賃貸・購入・相続・売却等、総合的にアドバイスを行う。 \n\n\n\n  \n講演者：鈴木 学 (すずきまなぶ)\n株式会社国際不動産エージェント 取締役副社長 \n世界6ヵ国で不動産投資・経営を実践する海外不動産おたく＆投資家。一橋大学卒業後、ITエンジニア・マネジャーとして、日本、豪州、中国、米国、インドの5ヶ国で勤務経験。 海外在住経験は9年間。語学力とITを駆使した物件遠隔管理ノウハウを活かして世界中で良い物件を仕込み中。 会員2500名超、日本初の海外不動産コミュニティ「アジア太平洋大家の会」創立者、会長 \n  \n\n  \n４月２日（火）１４時～　参加費無料\n\n \n\n\n\n下記のフォームへ必要事項をご入力ください。\n折り返し自動返信でメールが届きます。\n\n※アジア太平洋大家の会無料メルマガをお送りします。
URL:https://asia-pacific.tv/event/2024-04-02-johorbahru
CATEGORIES:オンライン
ORGANIZER;CN="%E3%82%A2%E3%82%B8%E3%82%A2%E5%A4%AA%E5%B9%B3%E6%B4%8B%E5%A4%A7%E5%AE%B6%E3%81%AE%E4%BC%9A":MAILTO:daihyo@asia-pacific.tv
END:VEVENT
BEGIN:VEVENT
DTSTART;TZID=Asia/Tokyo:20200610T140000
DTEND;TZID=Asia/Tokyo:20200610T150000
DTSTAMP:20260422T173718
CREATED:20200520T150632Z
LAST-MODIFIED:20200521T013940Z
UID:2103-1591797600-1591801200@asia-pacific.tv
SUMMARY:2020/6/10 オンラインセミナー「資産価値で勝つシンガポール不動産」
DESCRIPTION:アジアを代表する国際都市「シンガポール」で不動産を持つなら、この国で稀少な「土地所有権の物件」か、あるいは「好立地の借地物件」を持つのが、資産価値的には正解。価格サイクル的にも安値圏に入った今のタイミングで、投資・資産保全に向く特選物件を紹介します。 \n  \n \n  \nシンガポールは、ASEANで唯一の先進国。世界トップクラスの所得水準を誇る国だけあって、不動産も近隣の新興国と比べれば良いお値段しますが、意外にも、20年前と比べて1.4倍にしかなっていません。しかも、2013年のピーク時に比べて、現在は10％ほど下がった安値圏にあります。直近ではコロナの影響もあって割安な物件が出やすい環境にあります。 \n \n  \nシンガポールの不動産で評価が高いのは、「完全所有権」(Freehold)の物件。期限の定めなく土地を所有できるため人気が高く、資産価値が上がりやすい。今回のセミナーでは、緑豊かな高級住宅地にある完全所有権の物件を紹介します。 \n \n  \nあるいは、借地権(Leasehold)であっても、都心など好立地であれば資産価値は上がりやすいです。完全所有権よりも金額を抑えて買えるのがメリット。セミナーでは、文句のつけようのない一等地に建つ９９年借地の物件を紹介します。 \n \n  \n  \n  \n講演者：Julia Gohさん\nシンガポール最大の不動産会社Propnex所属エージェント 。シンガポール国立大学卒業後、ドイツ銀行はじめ、いくつかの世界的な金融機関で働いたあと、2007年に不動産仲介エージェントに転身、以後、プロフェッショナルかつ親身なサービスで顧客の信頼を得て、トップセールスとして優秀な成績を上げ続けている。シンガポール公認ファイナンシャルプランナー。 \n  \n  \n講演者：Chester Suさん\n\nオーストラリア・メルボルンのRMIT大学を卒業後、民間企業や準政府機関で国際ビジネス直接投資の業務経験を積んだ後、２０１３年に不動産エージェントに転身。外国人富裕層や機関投資家など幅広い顧客を獲得し、高額物件の仲介を得意とする。 \n  \n  \n６月１０日（水）１４時～　参加費無料 \n \n\n  \n\n  \n  \n\n\n\n下記のフォームへ必要事項をご入力ください。\n折り返し自動返信でメールが届きます。\n\n※アジア太平洋大家の会無料メルマガをお送りします。
URL:https://asia-pacific.tv/event/2020-06-10-singapore-zoom
ATTACH;FMTTYPE=image/jpeg:https://asia-pacific.tv/wp-content/uploads/2020/05/singaporelogo.jpg
ORGANIZER;CN="%E3%82%A2%E3%82%B8%E3%82%A2%E5%A4%AA%E5%B9%B3%E6%B4%8B%E5%A4%A7%E5%AE%B6%E3%81%AE%E4%BC%9A":MAILTO:daihyo@asia-pacific.tv
END:VEVENT
END:VCALENDAR